BEGIN:VCALENDAR
VERSION:2.0
PRODID:-//ATRC Aging - ECPv6.15.20//NONSGML v1.0//EN
CALSCALE:GREGORIAN
METHOD:PUBLISH
X-WR-CALNAME:ATRC Aging
X-ORIGINAL-URL:https://www.atrcaging.com
X-WR-CALDESC:Events for ATRC Aging
REFRESH-INTERVAL;VALUE=DURATION:PT1H
X-Robots-Tag:noindex
X-PUBLISHED-TTL:PT1H
BEGIN:VTIMEZONE
TZID:UTC
BEGIN:STANDARD
TZOFFSETFROM:+0000
TZOFFSETTO:+0000
TZNAME:UTC
DTSTART:20250101T000000
END:STANDARD
END:VTIMEZONE
BEGIN:VTIMEZONE
TZID:America/Chicago
BEGIN:DAYLIGHT
TZOFFSETFROM:-0600
TZOFFSETTO:-0500
TZNAME:CDT
DTSTART:20250309T080000
END:DAYLIGHT
BEGIN:STANDARD
TZOFFSETFROM:-0500
TZOFFSETTO:-0600
TZNAME:CST
DTSTART:20251102T070000
END:STANDARD
BEGIN:DAYLIGHT
TZOFFSETFROM:-0600
TZOFFSETTO:-0500
TZNAME:CDT
DTSTART:20260308T080000
END:DAYLIGHT
BEGIN:STANDARD
TZOFFSETFROM:-0500
TZOFFSETTO:-0600
TZNAME:CST
DTSTART:20261101T070000
END:STANDARD
BEGIN:DAYLIGHT
TZOFFSETFROM:-0600
TZOFFSETTO:-0500
TZNAME:CDT
DTSTART:20270314T080000
END:DAYLIGHT
BEGIN:STANDARD
TZOFFSETFROM:-0500
TZOFFSETTO:-0600
TZNAME:CST
DTSTART:20271107T070000
END:STANDARD
END:VTIMEZONE
BEGIN:VEVENT
DTSTART;TZID=UTC:20260505T080000
DTEND;TZID=UTC:20260505T120000
DTSTAMP:20260423T125659
CREATED:20260325T202312Z
LAST-MODIFIED:20260325T202312Z
UID:6682-1777968000-1777982400@www.atrcaging.com
SUMMARY:Older Americans Month Demopolis
DESCRIPTION:ATRC Aging is celebrating Older Americans Month and we are celebrating with two AGING IS YOUR SUPERPOWER events! These fun events are open to everyone 60+ and will include BINGO\, games\, prizes\, food and vendors. Locations\, dates and times are below. Call (334) 682-5206 to register. \nTo download a flyer for the Demopolis event click here. \nDemopolis Civic Center\nMay 5\, 2026\n10 a.m. – 12 p.m.\n501 N. Commissioners Ave.\, Demopolis \nTo download a flyer for the Monroeville event click here. \nMonroeville Community Center\nMay 20\, 2026\n10 a.m. – 12 p.m.\n271 Park Drive\, Monroeville
URL:https://www.atrcaging.com/event/older-americans-month-demopolis/
ATTACH;FMTTYPE=image/jpeg:https://www.atrcaging.com/wp-content/uploads/2026/03/ATRCA-OAM26-EVENT2.jpg
END:VEVENT
BEGIN:VEVENT
DTSTART;TZID=UTC:20260520T080000
DTEND;TZID=UTC:20260520T120000
DTSTAMP:20260423T125659
CREATED:20260325T202455Z
LAST-MODIFIED:20260325T202547Z
UID:6690-1779264000-1779278400@www.atrcaging.com
SUMMARY:Older Americans Month Monroeville
DESCRIPTION:ATRC Aging is celebrating Older Americans Month and we are celebrating with two AGING IS YOUR SUPERPOWER events! These fun events are open to everyone 60+ and will include BINGO\, games\, prizes\, food and vendors. Locations\, dates and times are below. Call (334) 682-5206 to register. \nTo download a flyer for the Demopolis event click here. \nDemopolis Civic Center\nMay 5\, 2026\n10 a.m. – 12 p.m.\n501 N. Commissioners Ave.\, Demopolis \nTo download a flyer for the Monroeville event click here. \nMonroeville Community Center\nMay 20\, 2026\n10 a.m. – 12 p.m.\n271 Park Drive\, Monroeville
URL:https://www.atrcaging.com/event/older-americans-month-monroeville/
ATTACH;FMTTYPE=image/jpeg:https://www.atrcaging.com/wp-content/uploads/2026/03/ATRCA-OAM26-EVENT.jpg
END:VEVENT
BEGIN:VEVENT
DTSTART;TZID=America/Chicago:20260611T100000
DTEND;TZID=America/Chicago:20260611T123000
DTSTAMP:20260423T125659
CREATED:20260421T204017Z
LAST-MODIFIED:20260421T204816Z
UID:6694-1781172000-1781181000@www.atrcaging.com
SUMMARY:Free Fraud Summit
DESCRIPTION:ATRC Aging is holding a Fraud Summit that will address the protection of senior citizens from financial and other types of exploitation\, presented by ATRC Aging\, The Alabama Securities Commission\, the Better Business Bureau Serving Central and South Alabama\, and Cadence Bank. To download a flyer click here. \nYou must pre-register for the event by June 5\, 2026. Call (334) 682-5206 or email sherri.bush@atrc.net. \nLunch will be provided for registrants. \nDate: Thursday\, June 11\, 2026\nTime: 10 a.m. – 12:30 p.m.\nLocation: Jackson Senior Nutrition Center\, 1701 College Avenue\, Jackson\, AL
URL:https://www.atrcaging.com/event/free-fraud-summit-2/
END:VEVENT
END:VCALENDAR